BEGIN:VCALENDAR
VERSION:2.0
PRODID:icalendar-ruby
CALSCALE:GREGORIAN
BEGIN:VEVENT
DTSTAMP:20260422T150509Z
UID:3xcRjA
DTSTART;VALUE=DATE:20150820
DTEND;VALUE=DATE:20150821
CLASS:PUBLIC
CREATED:20150730T042215
DESCRIPTION: We're upping the ABV for the second time this year to bring yo
 u our favorite night bazaar that combines the culinary prowess of Sauced w
 ith the art expertise of Locallective. This round we're spilling booze and
  paint beyond the Loft walls with an extension into our Milwaukee Ave bypa
 ss for an evening celebrating street and graffiti artists\, chefs\, barten
 ders and skate enthusiasts. \n
LAST-MODIFIED:20150820T235800
LOCATION:Locallective Loft\, Wicker Park
ORGANIZER:mailto:info@saucedmarket.com
SUMMARY:OVERPROOFED II
URL;VALUE=URI:https://ti.to/sauced/overproofed-ii
URL;VALUE=URI:https://ti.to/sauced/overproofed-ii
END:VEVENT
END:VCALENDAR
