BEGIN:VCALENDAR
VERSION:2.0
PRODID:icalendar-ruby
CALSCALE:GREGORIAN
BEGIN:VEVENT
DTSTAMP:20260422T191641Z
UID:JKHw5w
DTSTART;VALUE=DATE:20150710
DTEND;VALUE=DATE:20150712
CLASS:PUBLIC
CREATED:20141010T211513
DESCRIPTION: Madison+ UX is a one track conference featuring speakers from 
 near and far. The conference will showcase to locals the assets of the UX 
 community and allow visitors to Madison a chance to experience one of the 
 best\, brainiest\, and least expensive places in the US to live and work. 
 And cheese. \n\n Included in your registration: \n\n \n Opportunity to int
 eract with wide variety of speakers \n Learn strategies and gain best prac
 tices \n Connect with peers\, partners\, and vendors \n Networking opportu
 nities \n Beverage Service\, Lunch and Afternoon Snacks \n Maps to local h
 idden gems \n After-Party! \n \n\n All tickets sales are final and non-ref
 undable. \n\n You may transfer your registration to another person up to t
 he start of the conference by providing authorization to us at contact@Mad
 isonPl.us or in person at the registration table.   \n\n In the unlikely e
 vent that the conference is canceled\, the liability to Madison+ UX and UX
 Mad is limited to the returning paid registration fees. \n\n Please contac
 t us at contact@MadisonPl.us regarding registration and any registration p
 roblems. \n
LAST-MODIFIED:20150710T170804
LOCATION:Madison\, WI
ORGANIZER:mailto:contact@madisonpl.us
SUMMARY:Madison+ UX 2015
URL;VALUE=URI:https://ti.to/sapling/uxmad-2015
URL;VALUE=URI:https://ti.to/sapling/uxmad-2015
END:VEVENT
END:VCALENDAR
