BEGIN:VCALENDAR
VERSION:2.0
PRODID:icalendar-ruby
CALSCALE:GREGORIAN
BEGIN:VTIMEZONE
TZID:America/Los_Angeles
BEGIN:DAYLIGHT
DTSTART:20230312T030000
TZOFFSETFROM:-0800
TZOFFSETTO:-0700
RRULE:FREQ=YEARLY;BYDAY=2SU;BYMONTH=3
TZNAME:PDT
END:DAYLIGHT
BEGIN:STANDARD
DTSTART:20221106T010000
TZOFFSETFROM:-0700
TZOFFSETTO:-0800
RRULE:FREQ=YEARLY;BYDAY=1SU;BYMONTH=11
TZNAME:PST
END:STANDARD
END:VTIMEZONE
BEGIN:VEVENT
DTSTAMP:20260424T024504Z
UID:ZH1lHQ
DTSTART;VALUE=DATE:20230224
DTEND;VALUE=DATE:20230227
CLASS:PUBLIC
CREATED:20221017T183542
DESCRIPTION: The San Francisco Orchid Society presents ... \n\n Celebrating
  Diversity \n\n the 70th Annual Pacific Orchid Exposition \n\n \n There wi
 ll be thousands of orchid flowers and plants on display\, with judging fro
 m the American Orchid Society\, as well as plants for sale from San Franci
 sco Orchid Society members and many local\, national &amp\; international 
 nurseries. See expert-led hands-on demonstrations. Get advice about succes
 sfully growing and blooming orchids at home in the San Francisco Bay Area.
  Learn about ongoing efforts to promote orchid habitat conservation around
  the world. Families are welcome\, and there will be special activities fo
 r children and people of all ages and interests. \n\n \nKEEP SCROLLING DOW
 N TO NEXT PAGE TO PURCHASE TICKETS ...\n \n\n Single Day General Admission
  Price: $12 advance / $15 at the door - \n\n A Preview Night event on Thur
 sday February 23rd (6:00-9:00pm) where adult attendees will be the first t
 o see the orchid displays and have first pick from show vendors (orchid gr
 owers from all over the world offering the very best selection and some of
  the most exotic orchids available today)\, all with with reduced crowds (
 a few hundred rather than a few thousand people).\nPreview night attendees
  must be 21 and older since wine from our Premier Sponsor Oakville Ranch W
 inery will be served along with a light food menu catered by La Méditerra
 née) to the Latin Jazz sounds of Johnny Escobedo\, Mario Vega and others 
 from the group “El Guajiro.” \n\n Preview Night Admission Price: $50 a
 dvance / $80 at the door\nWeekend Pass including Preview Night: $60 advanc
 e / $100 at the door\n(Preview night tickets are SOLD OUT - a limited numb
 er will be available after noon on the day of the event and at the door on
  Thursday night) \n\n Phone: ‭(864) 663-6035‬\nEmail: info@orchidsanfr
 ancisco.org\nA discount is available for students (any age) and seniors (6
 5 years and over) with picture ID\;\nFriday through Sunday children 13 yea
 rs old and under get in free with a paid adult chaperone. \n\n Confirmed V
 endors for POE 2023 are: \n\n Afri Orchids -\nBrookside Orchids -\nCal-Orc
 hid -\nCCSF Environmental Horticulture/Floristry - \n\n D&amp\;D Flowers -
 \nEcuagenera -\nFlori-Culture -\nGold Country Orchids -\nGolden Gate Orchi
 ds - \n\n High Desert Orchids -\nNew Earth Orchids -\nOrchids and Gardens 
 -\nOrchid Design - \n\n Orchids of Los Osos -\nPaph Paradise -\nSeed Engei
  -\nSunset Valley Orchids - \n\n T&amp\;T Orchids -\nTen Shin Orchids -\nT
 ropical Exotique\n&amp\; TROPICALS \n \n
LAST-MODIFIED:20230227T191216
LOCATION:1199 9th Ave.\, San Francisco\, CA\, 94122
ORGANIZER:mailto:info@orchidsanfrancisco.org
SUMMARY:Celebrating Diversity - Pacific Orchid Exposition 2023
URL;VALUE=URI:https://ti.to/san-francisco-orchid-society/pacific-orchid-exp
 osition-2023-celebrating-diversity
URL;VALUE=URI:https://ti.to/san-francisco-orchid-society/pacific-orchid-exp
 osition-2023-celebrating-diversity
END:VEVENT
END:VCALENDAR
