BEGIN:VCALENDAR
VERSION:2.0
PRODID:icalendar-ruby
CALSCALE:GREGORIAN
BEGIN:VEVENT
DTSTAMP:20260421T083130Z
UID:BHJhbQ
DTSTART;VALUE=DATE:20181005
DTEND;VALUE=DATE:20181006
CLASS:PUBLIC
CREATED:20180925T140805
DESCRIPTION:  \n\n Friday 5th October - 6pm onwards \n\n Come join the Sams
 ung Internet and Friends for a Hacktoberfest Hack Night at the Microsoft R
 eactor Space! \n\n We will introduce you to Hacktoberfest and set you up w
 ith all you need to get going on your Hacktoberfest Pull Requests. There w
 ill be an introduction to Open Source and a workshop on Git and GitHub for
  beginners - hosted by GitHub Campus Rep Amy Dickens (@RedRoxProjects). \n
 \n We welcome anyone interested in learning about and/or contributing to o
 pen source regardless of whether you are a senior developer or an absolute
  beginner. \n\n Food and Drinks will be provided - please tell us if you h
 ave any specific dietary requirements when registering. \n\n Please note a
 ttendees of this event are expected to abide by the Hacktoberfest Code of 
 Conduct \n
LAST-MODIFIED:20181005T160020
LOCATION:Shoreditch\, London
ORGANIZER:mailto:amy.dickens@samsung.com
SUMMARY:Hacktoberfest Hack Night
URL;VALUE=URI:https://ti.to/samsunginternet/hacktoberfest
URL;VALUE=URI:https://ti.to/samsunginternet/hacktoberfest
END:VEVENT
END:VCALENDAR
