BEGIN:VCALENDAR
VERSION:2.0
PRODID:icalendar-ruby
CALSCALE:GREGORIAN
BEGIN:VEVENT
DTSTAMP:20260424T184714Z
UID:VmQvwQ
DTSTART;VALUE=DATE:20150718
DTEND;VALUE=DATE:20150719
CLASS:PUBLIC
CREATED:20150622T223919
DESCRIPTION: SacJS and Reacto present a hands-on workshop for Facebook's Re
 actJS framework\, led by Instagram Engineer Steven Luscher. \n
LAST-MODIFIED:20160628T041018
LOCATION:UC Davis Extension\, Sutter Square Galleria Center\, 2901 K St.\, 
 Room 200\, Sacramento\, CA 95816
ORGANIZER:mailto:derek@jsconf.us
SUMMARY:ReactJS Workshop
URL;VALUE=URI:https://ti.to/sacjs/reactjs-workshop
URL;VALUE=URI:https://ti.to/sacjs/reactjs-workshop
END:VEVENT
END:VCALENDAR
