BEGIN:VCALENDAR
VERSION:2.0
PRODID:icalendar-ruby
CALSCALE:GREGORIAN
BEGIN:VTIMEZONE
TZID:Europe/Madrid
BEGIN:DAYLIGHT
DTSTART:20220327T030000
TZOFFSETFROM:+0100
TZOFFSETTO:+0200
RRULE:FREQ=YEARLY;BYDAY=-1SU;BYMONTH=3
TZNAME:CEST
END:DAYLIGHT
BEGIN:STANDARD
DTSTART:20211031T020000
TZOFFSETFROM:+0200
TZOFFSETTO:+0100
RRULE:FREQ=YEARLY;BYDAY=-1SU;BYMONTH=10
TZNAME:CET
END:STANDARD
END:VTIMEZONE
BEGIN:VEVENT
DTSTAMP:20260420T011825Z
UID:pg13dA
DTSTART;VALUE=DATE:20220316
DTEND;VALUE=DATE:20220317
CLASS:PUBLIC
CREATED:20220203T182831
DESCRIPTION: SaaStock Barcelona is BACK\, with a fresh face and a formidabl
 e lineup!\nJoin the Barcelona SaaS community and have a great time with gl
 obal SaaS influencers in an ideal networking scenario. \n\n March 16th // 
 6pm - 9pm // Aticco Bogatell \n\n The Line-Up \n\n SaaS Founders Metrics o
 f Success\, with Nathan Latka \n\n Founderpath CEO and WSJ Bestseller Nath
 an Latka will share data-backed learnings on bootstrapped SaaS businesses.
  You won't want to miss Nathan! \n\n Hiring For Growth\, with Matt Lerner 
 \n\n VC and ex-Paypal product leader Matt Lerner comes to Barcelona to dis
 cuss the hardest task of all: hiring \n\n SaaS Founders Panel\, with Nigel
  Verdon and Joaquim Lecha \n\n How did the founders of Typeform and Railsb
 ank build two of the most successful SaaS companies in Europe? \n\n The Ve
 nue: Aticco Bogatell \n\n Located in the 22@\, the local startup quarter\,
  on March 16th Aticco's coworking space will become the heart of Barcelona
 's SaaS ecosystem. \n\n Enjoy a drink on the gorgeous rooftop with views o
 f the Sagrada Familia while you network with founders\, peers\, and our ev
 ent speakers. \n\n The Details \n\n Enjoy: Appetizers\, drinks and a surpr
 ise raffle \n\n Networking: Plenty of it. Before and after the sessions \n
 \n Bonus craft beer networking: Join us after the event at the craft beer 
 tavern Ovella Negra\, just across the street to continue networking \n
LAST-MODIFIED:20260217T112335
LOCATION:Carrer de Pallars\, 108\, Barcelona
ORGANIZER:mailto:hello@cledara.com
SUMMARY:SaaStock Barcelona: Event finished
URL;VALUE=URI:https://ti.to/saastock/saastock-local-barcelona
URL;VALUE=URI:https://ti.to/saastock/saastock-local-barcelona
END:VEVENT
END:VCALENDAR
