BEGIN:VCALENDAR
VERSION:2.0
PRODID:icalendar-ruby
CALSCALE:GREGORIAN
BEGIN:VEVENT
DTSTAMP:20260420T084936Z
UID:YMRivQ
DTSTART;VALUE=DATE:20221017
DTEND;VALUE=DATE:20221020
CLASS:PUBLIC
CREATED:20211014T092724
DESCRIPTION: ‘The best SaaS conference in Europe. Period.’ \n\n - Chris
 toph Janz\, Managing Partner\, Point Nine \n
LAST-MODIFIED:20250324T095244
LOCATION:Dublin\, Ireland
ORGANIZER:mailto:info@saastock.com
SUMMARY:SaaStock 2022
URL;VALUE=URI:https://ti.to/saastock/saastock-2022
URL;VALUE=URI:https://ti.to/saastock/saastock-2022
END:VEVENT
END:VCALENDAR
