BEGIN:VCALENDAR
VERSION:2.0
PRODID:icalendar-ruby
CALSCALE:GREGORIAN
BEGIN:VEVENT
DTSTAMP:20260424T150004Z
UID:gMrMWA
DTSTART;VALUE=DATE:20170918
DTEND;VALUE=DATE:20170919
CLASS:PUBLIC
CREATED:20170820T120552
DESCRIPTION: Understand how to educate your customers effectively\, learn h
 ow to justify the expense to management\, figure out how to align it with 
 the rest of the organisation\, &amp\; more. \n
LAST-MODIFIED:20260423T005001
LOCATION:Dublin\, Ireland
ORGANIZER:mailto:sarah@saastock.com
SUMMARY:SaaS.City 2017 Customer Success Bootcamp
URL;VALUE=URI:https://ti.to/saastock/saas-city-2017-customer-success-bootca
 mp
URL;VALUE=URI:https://ti.to/saastock/saas-city-2017-customer-success-bootca
 mp
END:VEVENT
END:VCALENDAR
