BEGIN:VCALENDAR
VERSION:2.0
PRODID:icalendar-ruby
CALSCALE:GREGORIAN
BEGIN:VEVENT
DTSTAMP:20260425T184137Z
UID:i01qvQ
DTSTART;VALUE=DATE:20160318
DTEND;VALUE=DATE:20160319
CLASS:PUBLIC
CREATED:20160216T110403
DESCRIPTION: Rapid\, exponential growth is absolutely possible\, but you ha
 ve to do it right. In this workshop you’ll learn how to unlock Transform
 ational Growth for your B2B SaaS business - regardless of company stage or
  maturity - by leveraging the unique methods and frameworks Lincoln Murphy
  has developed by helping over 500 B2B SaaS companies grow. \n\n Lincoln M
 urphy isn’t flying halfway around the world for his only UK appearance i
 n 2016 to simply share a few tips on incremental growth. No\, this is abou
 t developing the jet fuel to load into your rocket ship. \n\n This worksho
 p is a mix of lecture and activities\; you won’t just leave with a bunch
  of random tactics\, you’ll actually get started doing the work that nee
 ds to be done before you leave. Be prepared to work hard\, but walk away l
 ight years ahead of where you started. \n\n Spots are limited and they’l
 l go fast so don’t wait… sign-up today! \n
LAST-MODIFIED:20160317T175017
LOCATION:Rainmaking Loft\, International House\, 1 St Katherine's Way\, Lon
 don E1W 1UN
ORGANIZER:mailto:alex@saascribe.com
SUMMARY:Building an Engine of Growth Workshop
URL;VALUE=URI:https://ti.to/saascribe-media/building-an-engine-of-growth-wo
 rkshop
URL;VALUE=URI:https://ti.to/saascribe-media/building-an-engine-of-growth-wo
 rkshop
END:VEVENT
END:VCALENDAR
