BEGIN:VCALENDAR
VERSION:2.0
PRODID:icalendar-ruby
CALSCALE:GREGORIAN
BEGIN:VTIMEZONE
TZID:America/New_York
BEGIN:DAYLIGHT
DTSTART:20200308T030000
TZOFFSETFROM:-0500
TZOFFSETTO:-0400
RRULE:FREQ=YEARLY;BYDAY=2SU;BYMONTH=3
TZNAME:EDT
END:DAYLIGHT
BEGIN:STANDARD
DTSTART:20201101T010000
TZOFFSETFROM:-0400
TZOFFSETTO:-0500
RRULE:FREQ=YEARLY;BYDAY=1SU;BYMONTH=11
TZNAME:EST
END:STANDARD
END:VTIMEZONE
BEGIN:VEVENT
DTSTAMP:20260424T062459Z
UID:DJ8eww
DTSTART;VALUE=DATE:20200902
DTEND;VALUE=DATE:20200904
CLASS:PUBLIC
CREATED:20190806T215222
DESCRIPTION: Running Remote Conference is carefully curated to teach you ne
 xt-level\, actionable strategies and tactics you can utilize the very next
  day to manage &amp\; grow your remote team. As remote work gains populari
 ty and adaptation worldwide thanks to its limitless benefits\, entrepreneu
 rs and tech leaders are hungry for education. Running Remote covers every 
 facet of running a remote business. Get business insights and strategies o
 n managing distributed teams from acknowledged experts and prominent compa
 ny leaders. \n\n 500+ remote-first leaders will fly in from all over the w
 orld to Austin\, Texas for 2 days of\neducation and networking. We are a n
 iche group comprised of a variety of industries\, mainly SaaS\, ecommerce\
 , digital agencies\, BPO's and non-profit organisations. Attended by start
 ups and enterprise companies\, looking to build or scale their remote team
 s. \n\n | DISCOUNTS FOR TEAMS - click to apply discount |\n| -------------
 ---------------------------------- |\n| 1x TICKET |\n| 2x TICKETS |\n| 3x 
 TICKETS |\n| 4x TICKETS |\n| 5x TICKETS |\n| 6x TICKETS |\n| 7x TICKETS |\
 n| 8-10x TICKETS | \n\n Prices go up soon by $200! \n\n please read our cu
 rrent terms here. \n
LAST-MODIFIED:20240408T050727
LOCATION:Austin\, Texas\, USA
ORGANIZER:mailto:info@runningremote.com
SUMMARY:Running Remote 2020
URL;VALUE=URI:https://ti.to/running-remote/2020
URL;VALUE=URI:https://ti.to/running-remote/2020
END:VEVENT
END:VCALENDAR
