BEGIN:VCALENDAR
VERSION:2.0
PRODID:icalendar-ruby
CALSCALE:GREGORIAN
BEGIN:VTIMEZONE
TZID:Asia/Tokyo
BEGIN:STANDARD
DTSTART:19510909T000000
TZOFFSETFROM:+1000
TZOFFSETTO:+0900
TZNAME:JST
END:STANDARD
END:VTIMEZONE
BEGIN:VEVENT
DTSTAMP:20260421T073337Z
UID:D0AVxg
DTSTART;VALUE=DATE:20250416
DTEND;VALUE=DATE:20250419
CLASS:PUBLIC
CREATED:20250123T195140
DESCRIPTION: RubyKaigi is the world's largest international conference on t
 he Ruby programming language. \n
LAST-MODIFIED:20260112T112908
LOCATION:Ehime Prefectural Convention Hall (愛媛県県民文化会館)
ORGANIZER:mailto:noreply-calendar@tito.io
SUMMARY:RubyKaigi 2025
URL;VALUE=URI:https://ti.to/rubykaigi/2025
URL;VALUE=URI:https://ti.to/rubykaigi/2025
END:VEVENT
END:VCALENDAR
