BEGIN:VCALENDAR
VERSION:2.0
PRODID:icalendar-ruby
CALSCALE:GREGORIAN
BEGIN:VTIMEZONE
TZID:Asia/Tokyo
BEGIN:STANDARD
DTSTART:19510909T000000
TZOFFSETFROM:+1000
TZOFFSETTO:+0900
TZNAME:JST
END:STANDARD
END:VTIMEZONE
BEGIN:VEVENT
DTSTAMP:20260424T204157Z
UID:duTn1w
DTSTART;VALUE=DATE:20220908
DTEND;VALUE=DATE:20220911
CLASS:PUBLIC
CREATED:20220509T232450
DESCRIPTION: RubyKaigi is the world's largest international conference on t
 he Ruby programming language. \n
LAST-MODIFIED:20250314T091706
LOCATION:Mie Center for the Arts\, Mie\, Japan | Online
ORGANIZER:mailto:2022@rubykaigi.org
SUMMARY:RubyKaigi 2022
URL;VALUE=URI:https://ti.to/rubykaigi/2022
URL;VALUE=URI:https://ti.to/rubykaigi/2022
END:VEVENT
END:VCALENDAR
