BEGIN:VCALENDAR
VERSION:2.0
PRODID:icalendar-ruby
CALSCALE:GREGORIAN
BEGIN:VEVENT
DTSTAMP:20260421T012909Z
UID:eviVOw
DTSTART;VALUE=DATE:20170209
DTEND;VALUE=DATE:20170211
CLASS:PUBLIC
CREATED:20160606T102423
DESCRIPTION: Australia's premier Ruby conference is back in Melbourne! Join
  us in 2017 for the fifth RubyConf Australia\, bringing the finest Ruby mi
 nds of the region together to share ideas and socialise. \n
LAST-MODIFIED:20240403T093428
LOCATION:Melbourne\, Australia
ORGANIZER:mailto:organisers@rubyconf.org.au
SUMMARY:RubyConf AU 2017
URL;VALUE=URI:https://ti.to/ruby-australia/rubyconf-au-2017
URL;VALUE=URI:https://ti.to/ruby-australia/rubyconf-au-2017
END:VEVENT
END:VCALENDAR
