BEGIN:VCALENDAR
VERSION:2.0
PRODID:icalendar-ruby
CALSCALE:GREGORIAN
BEGIN:VEVENT
DTSTAMP:20260424T184607Z
UID:u4ylEg
DTSTART;VALUE=DATE:20160210
DTEND;VALUE=DATE:20160214
CLASS:PUBLIC
CREATED:20150513T043724
DESCRIPTION: Australia's premier Ruby conference returns for a fourth year\
 , bringing the finest Ruby minds of the region together to share ideas and
  socialise. \n
LAST-MODIFIED:20240403T093428
LOCATION:Sea World\, Gold Coast
ORGANIZER:mailto:organisers@rubyconf.org.au
SUMMARY:RubyConf AU 2016
URL;VALUE=URI:https://ti.to/ruby-australia/rubyconf-au-2016
URL;VALUE=URI:https://ti.to/ruby-australia/rubyconf-au-2016
END:VEVENT
END:VCALENDAR
