BEGIN:VCALENDAR
VERSION:2.0
PRODID:icalendar-ruby
CALSCALE:GREGORIAN
BEGIN:VTIMEZONE
TZID:Europe/London
BEGIN:DAYLIGHT
DTSTART:20250330T020000
TZOFFSETFROM:+0000
TZOFFSETTO:+0100
RRULE:FREQ=YEARLY;BYDAY=-1SU;BYMONTH=3
TZNAME:BST
END:DAYLIGHT
BEGIN:STANDARD
DTSTART:20251026T010000
TZOFFSETFROM:+0100
TZOFFSETTO:+0000
RRULE:FREQ=YEARLY;BYDAY=-1SU;BYMONTH=10
TZNAME:GMT
END:STANDARD
END:VTIMEZONE
BEGIN:VEVENT
DTSTAMP:20260420T084005Z
UID:P2bHkg
DTSTART;VALUE=DATE:20251023
DTEND;VALUE=DATE:20251025
CLASS:PUBLIC
CREATED:20241212T162855
DESCRIPTION: brightonSEO is a two-day search marketing conference and day o
 f optional training courses. It takes place twice a year and brings togeth
 er some of the best speakers in the world of search\, and definitely the b
 est crowd.  \n
LAST-MODIFIED:20260318T135904
LOCATION:Brighton\, UK
ORGANIZER:mailto:hey@roughagenda.com
SUMMARY:brightonSEO October 2025
URL;VALUE=URI:https://ti.to/roughagenda/brightonseooctober2025
URL;VALUE=URI:https://ti.to/roughagenda/brightonseooctober2025
END:VEVENT
END:VCALENDAR
