BEGIN:VCALENDAR
VERSION:2.0
PRODID:icalendar-ruby
CALSCALE:GREGORIAN
BEGIN:VTIMEZONE
TZID:Europe/London
BEGIN:DAYLIGHT
DTSTART:20230326T020000
TZOFFSETFROM:+0000
TZOFFSETTO:+0100
RRULE:FREQ=YEARLY;BYDAY=-1SU;BYMONTH=3
TZNAME:BST
END:DAYLIGHT
BEGIN:STANDARD
DTSTART:20231029T010000
TZOFFSETFROM:+0100
TZOFFSETTO:+0000
RRULE:FREQ=YEARLY;BYDAY=-1SU;BYMONTH=10
TZNAME:GMT
END:STANDARD
END:VTIMEZONE
BEGIN:VEVENT
DTSTAMP:20260424T051102Z
UID:t1Qosg
DTSTART;VALUE=DATE:20230420
DTEND;VALUE=DATE:20230422
CLASS:PUBLIC
CREATED:20230307T145758
DESCRIPTION: This year we're adding something a little bit different to kic
 k start the conference with the brightonSEO Seafront Run\, a great way to 
 network in a relaxed environment and get your blood pumping before a whole
  day of learning. \n\n Join us at 7.30am for friendly guided 5k along the 
 promenade allowing you enough time to get ready for the conference. \n\n T
 he run\, led by local running group RunPals\, will be inclusive of any abi
 lity\, so you can\nchoose how fast or slow you go - every ability is welco
 me. \n\n Registration is mandatory to take part. \n\n -- \n\n About RunPal
 s \n\n RunPals is a local running group based in Sussex. We are committed 
 to getting people of all ages and abilities out of the house and being act
 ive through running related activities. We create positive running experie
 nces with regular runs to help bring people together to enjoy the great ou
 tdoors. \n\n We believe in creating an environment where everyone is welco
 me\, no matter your\nexperience level or speed you go. Our experienced tea
 m of RunPals leaders and assistants will be on hand to provide support to 
 all runners taking part. \n\n To find out more about RunPals\, please head
  to runpals.club \n
LAST-MODIFIED:20260421T225458
LOCATION:Outside the Brighton Centre\, Kings Road\, Brighton
ORGANIZER:mailto:hey@roughagenda.com
SUMMARY:Pre-conference 5k Seafront Run Thursday 20th & Friday 21st April 20
 23
URL;VALUE=URI:https://ti.to/roughagenda/5k-seafront-run-april23
URL;VALUE=URI:https://ti.to/roughagenda/5k-seafront-run-april23
END:VEVENT
END:VCALENDAR
