BEGIN:VCALENDAR
VERSION:2.0
PRODID:icalendar-ruby
CALSCALE:GREGORIAN
BEGIN:VTIMEZONE
TZID:America/Los_Angeles
BEGIN:DAYLIGHT
DTSTART:20250309T030000
TZOFFSETFROM:-0800
TZOFFSETTO:-0700
RRULE:FREQ=YEARLY;BYDAY=2SU;BYMONTH=3
TZNAME:PDT
END:DAYLIGHT
BEGIN:STANDARD
DTSTART:20251102T010000
TZOFFSETFROM:-0700
TZOFFSETTO:-0800
RRULE:FREQ=YEARLY;BYDAY=1SU;BYMONTH=11
TZNAME:PST
END:STANDARD
END:VTIMEZONE
BEGIN:VEVENT
DTSTAMP:20260422T173032Z
UID:ws8HhQ
DTSTART;TZID=America/Los_Angeles:20250907T150000
DTEND;TZID=America/Los_Angeles:20250907T170000
CLASS:PUBLIC
CREATED:20250803T163723
DESCRIPTION: Roguelike games have been part of gaming culture for over 30 y
 ears and they have a deep and special place in our hearts. We'd love to ge
 t to spend some time with you all learning about roguelikes and socializin
 g together. \n\n While the full Roguelike Celebration conference isn’t h
 appening until October\, we wanted to provide a space for the community to
  gather before then. This will be an opportunity to catch up with old frie
 nds\, meet new ones\, and explore our exciting custom-built multiplayer ga
 me/chat space! It's totally free\, and all you’ll need to attend is a we
 b browser. \n\n This year we have: \n\n \n An exclusive fireside chat with
  Jon Perry about game design and his contributions to UFO 50 such as Plane
 t Zoldath\, Party House\, and Mini &amp\; Max! \n A talk from Alexei Peper
 s\, Designing for System Suspense\, which she had previously given for GDC
  but which is trapped within the vault. \n Ezra Szanton will present a tal
 k: "Building Synergy Webs in Roguelike Deckbuilders"! \n \n\n We'll have m
 ore information about all of these on our website (https://www.roguelike.c
 lub/) soon! \n
LAST-MODIFIED:20250812T164611
LOCATION:Virtual - see confirmation email for the URL
ORGANIZER:mailto:contact@roguelike.club
SUMMARY:Roguelike Celebration: Preview Event 2025
URL;VALUE=URI:https://ti.to/roguelike-celebration/preview-event-2025
URL;VALUE=URI:https://ti.to/roguelike-celebration/preview-event-2025
END:VEVENT
END:VCALENDAR
