BEGIN:VCALENDAR
VERSION:2.0
PRODID:icalendar-ruby
CALSCALE:GREGORIAN
BEGIN:VEVENT
DTSTAMP:20260422T165522Z
UID:ScdmTg
DTSTART;VALUE=DATE:20171012
DTEND;VALUE=DATE:20171014
CLASS:PUBLIC
CREATED:20170702T072644
DESCRIPTION: Two days of training to master microservices with Node.js. \n\
 n _ \n\n Delivered by the expert instructors of RisingStack. \n\n    \n\n 
 Peter Czibik\, Gergely Nemeth &amp\; Tamas Kadlecsik \n
LAST-MODIFIED:20171121T100654
LOCATION:Dublin
ORGANIZER:mailto:tamas.kadlecsik@risingstack.com
SUMMARY:Build Microservices with Node.js\, Dublin
URL;VALUE=URI:https://ti.to/risingstack/build-microservices-with-node-js-du
 blin
URL;VALUE=URI:https://ti.to/risingstack/build-microservices-with-node-js-du
 blin
END:VEVENT
END:VCALENDAR
