BEGIN:VCALENDAR
VERSION:2.0
PRODID:icalendar-ruby
CALSCALE:GREGORIAN
BEGIN:VTIMEZONE
TZID:Europe/Amsterdam
BEGIN:DAYLIGHT
DTSTART:20250330T030000
TZOFFSETFROM:+0100
TZOFFSETTO:+0200
RRULE:FREQ=YEARLY;BYDAY=-1SU;BYMONTH=3
TZNAME:CEST
END:DAYLIGHT
BEGIN:STANDARD
DTSTART:20251026T020000
TZOFFSETFROM:+0200
TZOFFSETTO:+0100
RRULE:FREQ=YEARLY;BYDAY=-1SU;BYMONTH=10
TZNAME:CET
END:STANDARD
END:VTIMEZONE
BEGIN:VEVENT
DTSTAMP:20260423T075404Z
UID:Qdkkjw
DTSTART;TZID=Europe/Amsterdam:20251022T200000
DTEND;TZID=Europe/Amsterdam:20251023T000000
CLASS:PUBLIC
CREATED:20250930T165023
DESCRIPTION: RIPPLES at The Hoxton Lloyd \n\n Begin your first ADE evening 
 with RIPPLES\, a night of sound\, story\, and togetherness. An intimate ex
 perience for those seeking depth beyond the noise. \n\n Hosted at The Hoxt
 on Lloyd\, the evening flows through live performances\, DJ sets\, and gui
 ded moments that invite presence and connection. Guests are welcomed with 
 a complimentary drink on arrival. \n\n The experience starts at 20:00 shar
 p. \n\n Featuring Cero Ismael Live\, Illnoledge Live\, Ike Melchizedek DJ 
 Set\, and Shinshan Salazar DJ Set. \n\n Let's Be Together. \n
LAST-MODIFIED:20251022T185356
LOCATION:The Hoxton Lloyd
ORGANIZER:mailto:contact@ripples-world.com
SUMMARY:The Hoxton ADE
URL;VALUE=URI:https://ti.to/ripples/thehoxtonade
URL;VALUE=URI:https://ti.to/ripples/thehoxtonade
END:VEVENT
END:VCALENDAR
