BEGIN:VCALENDAR
VERSION:2.0
PRODID:icalendar-ruby
CALSCALE:GREGORIAN
BEGIN:VEVENT
DTSTAMP:20260419T141844Z
UID:AcXdPQ
DTSTART;VALUE=DATE:20180920
DTEND;VALUE=DATE:20180922
CLASS:PUBLIC
CREATED:20170629T170329
DESCRIPTION: This event is in the past. View upcoming events here: www.re-w
 ork.co/events \n
LAST-MODIFIED:20260102T194433
LOCATION:London
ORGANIZER:mailto:hello@re-work.co
SUMMARY:Deep Learning in Healthcare Summit\, London 2018
URL;VALUE=URI:https://ti.to/rework/deep-learning-healthcare-summit-london-2
 018
URL;VALUE=URI:https://ti.to/rework/deep-learning-healthcare-summit-london-2
 018
END:VEVENT
END:VCALENDAR
