BEGIN:VCALENDAR
VERSION:2.0
PRODID:icalendar-ruby
CALSCALE:GREGORIAN
BEGIN:VTIMEZONE
TZID:Asia/Jerusalem
BEGIN:DAYLIGHT
DTSTART:20260327T030000
TZOFFSETFROM:+0200
TZOFFSETTO:+0300
RRULE:FREQ=YEARLY;BYDAY=-1FR;BYMONTH=3
TZNAME:IDT
END:DAYLIGHT
BEGIN:STANDARD
DTSTART:20251026T010000
TZOFFSETFROM:+0300
TZOFFSETTO:+0200
RRULE:FREQ=YEARLY;BYDAY=-1SU;BYMONTH=10
TZNAME:IST
END:STANDARD
END:VTIMEZONE
BEGIN:VEVENT
DTSTAMP:20260421T102526Z
UID:kGsjFg
DTSTART;VALUE=DATE:20251027
DTEND;VALUE=DATE:20251029
CLASS:PUBLIC
CREATED:20250731T125731
DESCRIPTION: Full information and agenda available on the website https://s
 ummit2025.reversim.com/ \n\n Guests are welcome to purchase a ticket for D
 ay 1\, Day 2 or both (two separate tickets).\n  \n\n The sessions are spok
 en in Hebrew (unless otherwise stated). \n\n ניתן לרכוש כרטי
 סים ליום הראשון של הכנס\, ליום השני או לשנ
 יהם (במקרה זה יהיו שני כרטיסים נפרדים)\n  \n
 \n עברית בהמשך \n\n QnA \n\n How many tickets can I purchase? \n
 Each person can purchase one ticket for D1 and one for D2.  \n\n What do I
  need to do after purchasing?\nPlease pay attention\, you need to fill in 
 your personal details and preferences. A ticket with incomolete details (a
 t least your name\, email) will not be usable.  \n\n Can I pass my ticket 
 to someone else?\nYes\, all tickets except otherwise noted can be re-assig
 ned. \nYou can assign or re-assign a ticket right after purchase. \nEven l
 ater\, the email with the ticket link leads to a page where you may re-ass
 ign the ticket. \nYou may re-assign your ticket multiple times up to one d
 ay before the event.  \n\n Can employers bulk-purchase tickets? \n\n Not a
 nymore\, we are sold out\, sorry. at this point you'll need to individuall
 y get on the waitlist for each ticket and purchase with credit card \n\n Y
 es\, here are a few options: \nFirstly\, every employee can purchase a per
 sonal ticket and expense\, that is in many cases the most convenient metho
 d to employees and does not risk missing out (sold-out situation).  \n\n I
 t is also possible for one person (e.g. HR or Finance) to purchase single 
 tickets and send ticket links to employees to fill their personal tickets 
 (e.g. assign). Please note that purchased but unassigned tickets are not u
 sable so don't forget to assign them. \n\n Pay by invoice is also possible
  for up to 20 tickets per each day of the conference. [Day 1 sold out] To 
 do so please fill out this form and please email or@urbanstory.club. We wi
 ll process this request and ask you to fill out other details and sign\, t
 hen we will reserve your tickets. This woks under the assumption that ther
 e are still enough available tickets for purchase so you'll need to respon
 d promply. \nThe bulk-purchase price is the same as the single-purchase pr
 ice. \nMinimum for group purchase is 5 total tickets.  \n\n שאלות ו
 תשובות \n\n כמה כרטיסים ניתן לרכוש \n\n כל אח
 ד יכול לרכוש כרטיס אחד לכל אחד מהימים \n\n 
 מה צריך לעשות אחרי שקניתי כרטיס \n\n צריך ל
 מלא את הפרטים האישיים\, מייד אחרי שלב התש
 לום. כרטיס ללא פרטים מלאים לא יהיה ניתן ל
 שימוש \n\n האם ניתן להעביר את הכרטיס למישה
 ו אחר \n\n כן\, מיד לאחר רכישת הכרטיס ניתן ל
 שנות את פרטי הכרטיס. \n\n גם מאוחר יותר\, בא
 ימייל שלאחר הרכישה יש לינק לעריכת הכרטיס
  ושם ניתן להעביר למישהו אחר עד יום לפני ה
 ארוע \n\n האם מעסיקים יכולים לקנות מספר גד
 ול יותר של כרטיסים בשביל עובדי החברה \n\n כ
 בר לא\, הכרטיסים כולם נמכרו. בשלב זה ניתן 
 להיכנס לרשימת ההמתנה אישית לכל כרטיס בנפ
 רד\, אם יתפנו אז** הרכישה תהיה באשראי כרגי
 ל** \n\n כן\, יש כמה אפשריויות.\nאחד זה שכל עו
 בד יקנה לעצמו וימלא את פרטיו האישיים ויק
 בל החזר מהמעסיק. \n\n אפשר גם שמישהו מטעם ה
 חברה יקנה כרטיס\, ישלם עבורו ואז ישלח לעו
 בדים קישור לכרטיס לצורך השמה ומילוי פרטי
 ם אישיים. \n\n אפשר גם לקנות בערוץ נוסף אל מ
 ול צוות האופרציה שלנו ולשלם ישירות לחברת
  ההפקה. זה יקח קצת יותר זמן ואנחנו לא יכול
 ים להבטיח את זמינות הכרטיסים בערוץ זה.\nנ
 א למלא את הפרטים בטופס זה ונחזור אליכם בה
 קדם https://forms.gle/fvkB9QYAmWQWaZ9q8\nכמות הכרטיסים המ
 קסימלית במקרה זה היא 20 לכל אחד מהימים\nבנ
 וסף למילוי הטופס\, שלחו בבקשה אימייל אל or@
 urbanstory.club ותעדכנו \nשאתם מעוניינים \n\n מספר
  כרטיסים מינימלי לרכישה קבוצתית הוא 5 כרט
 יסים \n
LAST-MODIFIED:20251027T174459
LOCATION:Tel Aviv
ORGANIZER:mailto:ran@reversim.com
SUMMARY:Reversim Summit 2025
URL;VALUE=URI:https://ti.to/reversim-summit/2025
URL;VALUE=URI:https://ti.to/reversim-summit/2025
END:VEVENT
BEGIN:VEVENT
DTSTAMP:20260421T102526Z
UID:kGsjFg1088383
DTSTART;VALUE=DATE:20251027
DTEND;VALUE=DATE:20251028
CLASS:PUBLIC
CREATED:20250731T125834
DESCRIPTION:Conference Day 1
LAST-MODIFIED:20251027T133205
ORGANIZER:mailto:ran@reversim.com
SUMMARY:[Reversim Summit 2025] Day 1
URL;VALUE=URI:https://ti.to/reversim-summit/2025
X-ALT-DESC;FMTTYPE=text/html:Conference Day 1
URL;VALUE=URI:https://ti.to/reversim-summit/2025
END:VEVENT
BEGIN:VEVENT
DTSTAMP:20260421T102526Z
UID:kGsjFg1088384
DTSTART;VALUE=DATE:20251028
DTEND;VALUE=DATE:20251029
CLASS:PUBLIC
CREATED:20250731T125835
DESCRIPTION:Conference Day 2
LAST-MODIFIED:20251028T073949
ORGANIZER:mailto:ran@reversim.com
SUMMARY:[Reversim Summit 2025] Day 2
URL;VALUE=URI:https://ti.to/reversim-summit/2025
X-ALT-DESC;FMTTYPE=text/html:Conference Day 2
URL;VALUE=URI:https://ti.to/reversim-summit/2025
END:VEVENT
END:VCALENDAR
