BEGIN:VCALENDAR
VERSION:2.0
PRODID:icalendar-ruby
CALSCALE:GREGORIAN
BEGIN:VEVENT
DTSTAMP:20260421T063838Z
UID:vo6LSA
DTSTART;VALUE=DATE:20250408
DTEND;VALUE=DATE:20250611
CLASS:PUBLIC
CREATED:20250106T094831
DESCRIPTION: Registration is now closed. \n
LAST-MODIFIED:20250407T082202
LOCATION:Multiple Locations
ORGANIZER:mailto:amy@retailexcellence.ie
SUMMARY:Retail Management Development Programme 2025
URL;VALUE=URI:https://ti.to/retail-excellence/retail-manager-development-pr
 ogramme-2025
URL;VALUE=URI:https://ti.to/retail-excellence/retail-manager-development-pr
 ogramme-2025
END:VEVENT
END:VCALENDAR
