BEGIN:VCALENDAR
VERSION:2.0
PRODID:icalendar-ruby
CALSCALE:GREGORIAN
BEGIN:VEVENT
DTSTAMP:20260422T191425Z
UID:JO6f7Q
DTSTART;VALUE=DATE:20170914
DTEND;VALUE=DATE:20170917
CLASS:PUBLIC
CREATED:20170518T042234
DESCRIPTION: REST Fest\nRESTful Web Service Unconference \n\n Our objective
  is to give people interested in REST\, Hypermedia APIs\, crafting web ser
 vice APIs\, or any related topics a chance to get together in an informal 
 setting to share ideas\, trade stories\, and show examples of current work
 . \n
LAST-MODIFIED:20180623T183013
LOCATION:Greenville\, SC
ORGANIZER:mailto:info@restfest.org
SUMMARY:REST Fest US 2017
URL;VALUE=URI:https://ti.to/rest-fest/rest-fest-us-2017
URL;VALUE=URI:https://ti.to/rest-fest/rest-fest-us-2017
END:VEVENT
END:VCALENDAR
