BEGIN:VCALENDAR
VERSION:2.0
PRODID:icalendar-ruby
CALSCALE:GREGORIAN
BEGIN:VEVENT
DTSTAMP:20260422T085618Z
UID:YQFlPQ
DTSTART:20260319T090000
DTEND:20260319T130000
CLASS:PUBLIC
CREATED:20260216T112856
DESCRIPTION: Inovace ve sportu\, zdraví a pohybové aktivitě – možnost
 i spolupráce s vědou a výzkumem v praxi \n\n Řada organizací v oblast
 i sportu\, zdraví a pohybových aktivit vnímá potenciál spolupráce s 
 vědeckovýzkumnými institucemi\, často však postrádá jasnou předsta
 vu o tom\, jak taková spolupráce funguje v praxi.\nInovační centrum Ol
 omouckého kraje ve spolupráci s Aplikačním centrem BALUO a Fakultou t
 ělesné kultury Univerzity Palackého v Olomouci proto připravilo setká
 ní\, jehož cílem je srozumitelně a prakticky představit konkrétní m
 ožnosti spolupráce. \n
LAST-MODIFIED:20260218T121813
LOCATION:Aplikační centrum BALUO\, Olomouc 
ORGANIZER:mailto:registrace@inovaceok.cz
SUMMARY:MATCHMAKING S FAKULTOU TĚLESNÉ KULTURY UP
URL;VALUE=URI:https://ti.to/registrace-icok/matchmaking_ftk_up
URL;VALUE=URI:https://ti.to/registrace-icok/matchmaking_ftk_up
END:VEVENT
END:VCALENDAR
