BEGIN:VCALENDAR
VERSION:2.0
PRODID:icalendar-ruby
CALSCALE:GREGORIAN
BEGIN:VEVENT
DTSTAMP:20260420T231723Z
UID:fWKlNA
DTSTART;VALUE=DATE:20191016
DTEND;VALUE=DATE:20191018
CLASS:PUBLIC
CREATED:20190422T232007
LAST-MODIFIED:20191015T212213
LOCATION:San Francisco
ORGANIZER:mailto:hello@re-deploy.io
SUMMARY:REdeploy 2019
URL;VALUE=URI:https://ti.to/redeploy/2019
URL;VALUE=URI:https://ti.to/redeploy/2019
END:VEVENT
END:VCALENDAR
