BEGIN:VCALENDAR
VERSION:2.0
PRODID:icalendar-ruby
CALSCALE:GREGORIAN
BEGIN:VEVENT
DTSTAMP:20260424T141952Z
UID:XLEnug
DTSTART;VALUE=DATE:20150928
DTEND;VALUE=DATE:20151001
CLASS:PUBLIC
CREATED:20150423T131641
DESCRIPTION: By the end of this course candidates will have acquired an in-
 depth knowledge of concurrent programming that allows them to develop data
  structures such as queues\, executors\, and shared memory IPC transports 
 that significantly out perform any products currently available. \n\n In a
 ddition to learning the basic techniques of building high-performance data
  structures\, a performance testing and profiling methodology will be intr
 oduced that is fundamental to working at the extremes of systems performan
 ce. \n
LAST-MODIFIED:20160503T110933
LOCATION:etcvenues One Drummond Gate\, London\, SW1V 2QQ
ORGANIZER:mailto:nicky@real-logic.co.uk
SUMMARY:September Concurrent Lock Free Programming in Java
URL;VALUE=URI:https://ti.to/real-logic/SeptLockFree
URL;VALUE=URI:https://ti.to/real-logic/SeptLockFree
END:VEVENT
END:VCALENDAR
