BEGIN:VCALENDAR
VERSION:2.0
PRODID:icalendar-ruby
CALSCALE:GREGORIAN
BEGIN:VEVENT
DTSTAMP:20260422T035005Z
UID:Fp30dw
DTSTART;VALUE=DATE:20171025
DTEND;VALUE=DATE:20171028
CLASS:PUBLIC
CREATED:20161028T145543
LAST-MODIFIED:20221031T081645
LOCATION:Bratislava
ORGANIZER:mailto:conference@reactiveconf.com
SUMMARY:ReactiveConf 2017
URL;VALUE=URI:https://ti.to/reactive/reactiveconf-2017
URL;VALUE=URI:https://ti.to/reactive/reactiveconf-2017
END:VEVENT
END:VCALENDAR
