BEGIN:VCALENDAR
VERSION:2.0
PRODID:icalendar-ruby
CALSCALE:GREGORIAN
BEGIN:VEVENT
DTSTAMP:20260423T123244Z
UID:ZEfR0g
DTSTART;VALUE=DATE:20180628
DTEND;VALUE=DATE:20180629
CLASS:PUBLIC
CREATED:20180528T091849
DESCRIPTION: Inviting you to the next ReactiveMeetups Prague!   \n\n Clojur
 eScript: How to go all in functional and dynamic in the browser \n\n SUMMA
 RY:   \n\n { we'll initially look at what ClojureScript is and get familia
 r with it's unfamiliar but simple syntax } \n\n { we'll look at some of th
 e philosophical things that make Clojure(Script) different from other lang
 uages } \n\n { we'll look at how it is to program ClojureScript and ultima
 tely how you can bring concepts from ClojureScript to the programming lang
 uage you're using at the moment } \n\n ⏱ Timeline:\n18:30 Registration |
  \n19:00 Opening |\n19:05 ClojureScript Talk | \n20:20 Food\, Drinks and N
 etworking 🍕🍺 \n\n Follow us on https://www.facebook.com/ReactiveMeet
 ups/ or https://twitter.com/ReactiveMeetups \n
LAST-MODIFIED:20180822T093058
LOCATION:Hvězdova 2c\,  Prague
ORGANIZER:mailto:matej.strateny@reactiveconf.com
SUMMARY:ReactiveMeetups Prague | Viktor Eriksson
URL;VALUE=URI:https://ti.to/reactive-free/reactivemeetups-prague-clojurescr
 ipt-viktor
URL;VALUE=URI:https://ti.to/reactive-free/reactivemeetups-prague-clojurescr
 ipt-viktor
END:VEVENT
BEGIN:VEVENT
DTSTAMP:20260423T123244Z
UID:ZEfR0g1021171
DTSTART:20180628T183000
DTEND:20180628T220000
CLASS:PUBLIC
CREATED:20180531T132124
LAST-MODIFIED:20180604T101032
LOCATION:Actum Digital\, Hvězdova 1734/2c\, Prague 4
ORGANIZER:mailto:matej.strateny@reactiveconf.com
SUMMARY:[ReactiveMeetups Prague | Viktor Eriksson] Event timeline
URL;VALUE=URI:https://ti.to/reactive-free/reactivemeetups-prague-clojurescr
 ipt-viktor
URL;VALUE=URI:https://ti.to/reactive-free/reactivemeetups-prague-clojurescr
 ipt-viktor
END:VEVENT
END:VCALENDAR
