BEGIN:VCALENDAR
VERSION:2.0
PRODID:icalendar-ruby
CALSCALE:GREGORIAN
BEGIN:VEVENT
DTSTAMP:20260422T225837Z
UID:dskC2w
DTSTART;VALUE=DATE:20181024
DTEND;VALUE=DATE:20181025
CLASS:PUBLIC
CREATED:20180927T134445
DESCRIPTION: Inviting you to our first ReactiveMeetup Pardubice!   \n\n 
 𝗧𝗜𝗧𝗟𝗘: \nE2E Testing with Cypress \n\n 𝗧𝗔𝗟𝗞 
 𝗔𝗕𝗦𝗧𝗥𝗔𝗖𝗧: \nTesting is hard. End-to-end testing is
  really hard. But have you ever wondered if maybe our tools are the ones t
 o blame? What if we could completely rethink testing tools to be fast\, us
 eful and effective?  Then come! We will show you the power of Cypress!  \n
 \n 𝗦𝗣𝗘𝗔𝗞𝗘𝗥𝗦 𝗕𝗜𝗢:\nGleb Bahmutov is JavaSc
 ript ninja\, image processing expert and software quality fanatic. During 
 the day Gleb is making the web a better place as VP of Engineering at Cypr
 ess.io. \n\n ⏱ Timeline:\n17:30 Registration | \n18:00 Opening |\n18:05 
 Talk | \n19:20 Food\, Drinks and Networking 🍕🍺 \n\n Follow us on htt
 ps://www.facebook.com/ReactiveMeetups/ or https://twitter.com/ReactiveMeet
 ups \n
LAST-MODIFIED:20181009T112825
LOCATION:Áčko\,  Studentská 268\, Pardubice\,
ORGANIZER:mailto:matej.strateny@reactiveconf.com
SUMMARY:ReactiveMeetups Pardubice | Gleb Bahmutov
URL;VALUE=URI:https://ti.to/reactive-free/reactivemeetups-pardubice-E2Etest
 ing
URL;VALUE=URI:https://ti.to/reactive-free/reactivemeetups-pardubice-E2Etest
 ing
END:VEVENT
BEGIN:VEVENT
DTSTAMP:20260422T225837Z
UID:dskC2w1022856
DTSTART:20181024T173000
DTEND:20181024T210000
CLASS:PUBLIC
CREATED:20180927T134446
LAST-MODIFIED:20181009T112220
LOCATION:Áčko - studentský klub\, Studentská 268\, Pardubice\, 53009
ORGANIZER:mailto:matej.strateny@reactiveconf.com
SUMMARY:[ReactiveMeetups Pardubice | Gleb Bahmutov] Event Timeline
URL;VALUE=URI:https://ti.to/reactive-free/reactivemeetups-pardubice-E2Etest
 ing
URL;VALUE=URI:https://ti.to/reactive-free/reactivemeetups-pardubice-E2Etest
 ing
END:VEVENT
END:VCALENDAR
