BEGIN:VCALENDAR
VERSION:2.0
PRODID:icalendar-ruby
CALSCALE:GREGORIAN
BEGIN:VEVENT
DTSTAMP:20260423T161654Z
UID:T0rzaw
DTSTART;VALUE=DATE:20180522
DTEND;VALUE=DATE:20180523
CLASS:PUBLIC
CREATED:20180424T113526
DESCRIPTION: Inviting you to the next ReactiveMeetups Hradec Králové!   \
 n\n TALK: ReasonML and GraphQL: The future of frontend and backend develop
 ment \n\n TALK SUMMARY:  * The origin\, advantages\, success\, and challen
 ges of ReasonML * How to incrementally adopt Reason today in your day-to-d
 ay work * How GraphQL solves the biggest challenge of Reason and Reason-li
 ke languages \n\n ⏱ Timeline:\n17:30 Registration | \n18:00 Opening |\n1
 8:05 Main Talk &amp\; Q/A\n19:30 Food\, Drinks and Networking 🍕🍺 \n\
 n Follow us on https://www.facebook.com/ReactiveMeetups/ or https://twitte
 r.com/ReactiveMeetups \n
LAST-MODIFIED:20190201T114706
LOCATION:FIM UHK\,   Hradec Králové
ORGANIZER:mailto:matej.strateny@reactiveconf.com
SUMMARY:ReactiveMeetups Hradec Králové | Sean Grove
URL;VALUE=URI:https://ti.to/reactive-free/reactivemeetups-hradec-kralove-se
 an-grove
URL;VALUE=URI:https://ti.to/reactive-free/reactivemeetups-hradec-kralove-se
 an-grove
END:VEVENT
END:VCALENDAR
