BEGIN:VCALENDAR
VERSION:2.0
PRODID:icalendar-ruby
CALSCALE:GREGORIAN
BEGIN:VEVENT
DTSTAMP:20260423T162139Z
UID:glxczA
DTSTART;VALUE=DATE:20180411
DTEND;VALUE=DATE:20180412
CLASS:PUBLIC
CREATED:20180321T161044
DESCRIPTION: Inviting you to the next ReactiveMeetups Hradec Králové!  \n
 \n This time Gerard Sans\, humble Google developer expert is going to put 
 GraphQL\, a query language for your API\, under the microscope.  Come and 
 familiar yourself with GraphQL's strengths and weaknesses and where is hea
 ding. \n\n ⏱ Timeline:\n17:30 Registration |\n18:00 Opening |\n18:05 Rea
 ctiveMeetups HK: State of GraphQL in 2018 |\n18:50 Q&amp\;A |\n19:20 Draft
  beer and Networking 🍕🍺 our traditional HK technology festivity  \n\
 n Become a member of the Reactive Meetups Hradec Králové community:\nhtt
 ps://www.facebook.com/groups/reactivemeetupsHK/ \n
LAST-MODIFIED:20180424T113534
LOCATION:FIM UHK\,   Hradec Králové
ORGANIZER:mailto:matej.strateny@reactiveconf.com
SUMMARY:ReactiveMeetups Hradec Králové | Gerard Sans
URL;VALUE=URI:https://ti.to/reactive-free/reactivemeetups-hradec-kralove-ge
 rard-sans
URL;VALUE=URI:https://ti.to/reactive-free/reactivemeetups-hradec-kralove-ge
 rard-sans
END:VEVENT
END:VCALENDAR
