BEGIN:VCALENDAR
VERSION:2.0
PRODID:icalendar-ruby
CALSCALE:GREGORIAN
BEGIN:VEVENT
DTSTAMP:20260423T162139Z
UID:ZszaPA
DTSTART;VALUE=DATE:20180410
DTEND;VALUE=DATE:20180411
CLASS:PUBLIC
CREATED:20180321T174015
DESCRIPTION: Inviting you to the next ReactiveMeetups Brno!   \n\n This tim
 e Gerard Sans\, humble Google developer expert is going to put GraphQL\, a
  query language for your API\, under the microscope.  Come and familiar yo
 urself with GraphQL's strengths and weaknesses and where is heading. \n\n 
 ⏱ Timeline:\n18:30 Registration |\n19:00 Opening |\n19:05 ReactiveMeetup
 s Brno: State of GraphQL in 2018 |\n19:50 Q&amp\;A |\n20:20 Food\, Drinks 
 and Networking 🍕🍺 \n\n Follow us on https://www.facebook.com/Reactiv
 eMeetups/ or https://twitter.com/ReactiveMeetups \n
LAST-MODIFIED:20180424T112032
LOCATION:VUT FIT -  lecture room A113
ORGANIZER:mailto:matej.strateny@reactiveconf.com
SUMMARY:ReactiveMeetups Brno | Gerard Sans
URL;VALUE=URI:https://ti.to/reactive-free/reactivemeetups-brno-gerard-sans
URL;VALUE=URI:https://ti.to/reactive-free/reactivemeetups-brno-gerard-sans
END:VEVENT
END:VCALENDAR
