BEGIN:VCALENDAR
VERSION:2.0
PRODID:icalendar-ruby
CALSCALE:GREGORIAN
BEGIN:VEVENT
DTSTAMP:20260421T103333Z
UID:U7EMMw
DTSTART;VALUE=DATE:20180913
DTEND;VALUE=DATE:20180914
CLASS:PUBLIC
CREATED:20180822T144627
DESCRIPTION: Inviting you to the next ReactiveMeetups Bratislava!   \n\n Ti
 tle: Components done right™\nSubtitle: Best practices for components and
  component-based architectures \n\n TALK SUMMARY:  \n\n Javi Velasco and R
 obin Frischmann are frontend engineers and early React adopters \n\n You w
 ill learn how to organise your frontend components and what it takes to wr
 ite “great” components  \n\n Each argument will be first introduced th
 eoretically\, then show practically through live coding examples  \n\n ⏱
  Timeline:\n18:30 Registration | \n19:00 Opening |\n19:05 Talk | \n20:20 F
 ood\, Drinks and Networking 🍕🍺 \n\n Follow us on https://www.faceboo
 k.com/ReactiveMeetups/ or https://twitter.com/ReactiveMeetups \n
LAST-MODIFIED:20191130T125045
LOCATION:Radlinského 10\, Csob building 
ORGANIZER:mailto:matej.strateny@reactiveconf.com
SUMMARY:ReactiveMeetups Bratislava | Frischmann & Velasco
URL;VALUE=URI:https://ti.to/reactive-free/reactivemeetups-bratislava-compon
 ents
URL;VALUE=URI:https://ti.to/reactive-free/reactivemeetups-bratislava-compon
 ents
END:VEVENT
BEGIN:VEVENT
DTSTAMP:20260421T103333Z
UID:U7EMMw1022446
DTSTART:20180913T183000
DTEND:20180913T220000
CLASS:PUBLIC
CREATED:20180822T144629
LAST-MODIFIED:20180822T145026
ORGANIZER:mailto:matej.strateny@reactiveconf.com
SUMMARY:[ReactiveMeetups Bratislava | Frischmann & Velasco] Event Timeline
URL;VALUE=URI:https://ti.to/reactive-free/reactivemeetups-bratislava-compon
 ents
URL;VALUE=URI:https://ti.to/reactive-free/reactivemeetups-bratislava-compon
 ents
END:VEVENT
END:VCALENDAR
