BEGIN:VCALENDAR
VERSION:2.0
PRODID:icalendar-ruby
CALSCALE:GREGORIAN
BEGIN:VEVENT
DTSTAMP:20260423T131852Z
UID:M8oNdg
DTSTART;VALUE=DATE:20180814
DTEND;VALUE=DATE:20180815
CLASS:PUBLIC
CREATED:20180723T111013
DESCRIPTION: Summer Lightning Storm Hradec Králové 2018 ⚡️ Letní bou
 ře nad Hradcem přijde letos 14. srpna️!⚡️ \n\n ReactiveMeetups spo
 lu s Unicornem tě i letos zvou na letní setkání hradeckých a pardubic
 kých vývojářů. Pět z nich si pro tebe připraví 10-ti minutové Lig
 htning talky se svými vývojářskými zkušenostmi\, nápady a zajímavo
 stmi.  \n\n Zajímá tě\, co zajímavého se na Hradubicku vyvíjí a vym
 ýšlí? Přijď se podívat na talky a následně si neformálně popoví
 dat\, u piva či čaje :) \n\n Timeline: 18:00 Zahájení | 18:05 Lightnin
 g talks ⚡️ Q&amp\;A | 19:20 Networking &amp\; 🍺 \n\n A s kým se bu
 deš moct potkat? Zůstaň ve střehu\, prezentující budeme odhalovat v 
 následujících dnech… :) \n\n Připoj se do ReativeMeetups HK komunity
 :\nhttps://www.facebook.com/groups/reactivemeetupsHK/ \n
LAST-MODIFIED:20181114T095521
LOCATION:Artičok\, Hradec Králové
ORGANIZER:mailto:matej.strateny@reactiveconf.com
SUMMARY:Summer Lightning Storm #2 Hradec Králové
URL;VALUE=URI:https://ti.to/reactive-free/SLS2Hradec
URL;VALUE=URI:https://ti.to/reactive-free/SLS2Hradec
END:VEVENT
BEGIN:VEVENT
DTSTAMP:20260423T131852Z
UID:M8oNdg1022083
DTSTART:20180814T173000
DTEND:20180814T210000
CLASS:PUBLIC
CREATED:20180724T121708
LAST-MODIFIED:20180814T130230
ORGANIZER:mailto:matej.strateny@reactiveconf.com
SUMMARY:[Summer Lightning Storm #2 Hradec Králové] EventTimeline
URL;VALUE=URI:https://ti.to/reactive-free/SLS2Hradec
URL;VALUE=URI:https://ti.to/reactive-free/SLS2Hradec
END:VEVENT
END:VCALENDAR
