BEGIN:VCALENDAR
VERSION:2.0
PRODID:icalendar-ruby
CALSCALE:GREGORIAN
BEGIN:VTIMEZONE
TZID:Europe/Warsaw
BEGIN:DAYLIGHT
DTSTART:20240331T030000
TZOFFSETFROM:+0100
TZOFFSETTO:+0200
RRULE:FREQ=YEARLY;BYDAY=-1SU;BYMONTH=3
TZNAME:CEST
END:DAYLIGHT
BEGIN:STANDARD
DTSTART:20241027T020000
TZOFFSETFROM:+0200
TZOFFSETTO:+0100
RRULE:FREQ=YEARLY;BYDAY=-1SU;BYMONTH=10
TZNAME:CET
END:STANDARD
END:VTIMEZONE
BEGIN:VEVENT
DTSTAMP:20260421T082953Z
UID:eDa8SA
DTSTART;TZID=Europe/Warsaw:20240606T180000
DTEND;TZID=Europe/Warsaw:20240606T213000
CLASS:PUBLIC
CREATED:20240426T131823
DESCRIPTION: Callstack is back with another great event! \n\nWith our meetu
 p\, we aim to delve deeper into not only React Native\, but the entire Rea
 ct Universe\, uncovering its boundless possibilities. Embark on this journ
 ey with us! \n\n  \nWhat’s on the agenda? \n\n Get ready for an illumina
 ting evening packed with not one\, not two\, but four captivating talks fe
 aturing experts from Callstack and our special guests!  \n\n  \n📍React 
 Universe Briefing \n\n Łukasz Chludziński\, RN Expert\, Mentor &amp\; po
 dcast host - Callstack \n\n  \n📍A Native Navigation in the JavaScript W
 orld \n\n Tymoteusz Boba\, Software Developer and OSS Maintainer - Softwar
 e Mansion \n\n  \n📍Astro - island technology in the name of optimizatio
 n \n\n Szymon Chmal\, Senior Frontend Developer - Bright Inventions \n\n  
 \n📍React Native ❤️ Apple Vision Pro - Your App in the new dimension
  \n\n Oskar Kwaśniewski\, Senior RN Developer\, RN Core Contributor &amp\
 ; OSS Maintainer - Callstack \n\n  \nWe'll kick off at 6 pm with these ins
 piring talks\, followed by a fun and chill networking session around 8:30 
 pm 🍕🍺 \n\n See you there 🙌 \n
LAST-MODIFIED:20250317T165017
LOCATION:Callstack Office\, Prosta 36\, building C\, 2nd floor\, Wrocław
ORGANIZER:mailto:malgorzata.kopec@callstack.com
SUMMARY:React Universe Meetup by Callstack
URL;VALUE=URI:https://ti.to/react-universe-meetup/by-callstack
URL;VALUE=URI:https://ti.to/react-universe-meetup/by-callstack
END:VEVENT
END:VCALENDAR
