BEGIN:VCALENDAR
VERSION:2.0
PRODID:icalendar-ruby
CALSCALE:GREGORIAN
BEGIN:VEVENT
DTSTAMP:20260420T013344Z
UID:gp3CBA
DTSTART;VALUE=DATE:20181101
DTEND;VALUE=DATE:20181102
CLASS:PUBLIC
CREATED:20180817T095721
DESCRIPTION: Enjoy Taipei on a bike the day before the RCC Summit Wuling. \
 n
LAST-MODIFIED:20181010T152502
LOCATION:Taipei
ORGANIZER:mailto:rcc@rapha.cc
SUMMARY:Wuling 2018 pre-programming
URL;VALUE=URI:https://ti.to/rcc-summit/wuling-2018
URL;VALUE=URI:https://ti.to/rcc-summit/wuling-2018
END:VEVENT
END:VCALENDAR
