BEGIN:VCALENDAR
VERSION:2.0
PRODID:icalendar-ruby
CALSCALE:GREGORIAN
BEGIN:VEVENT
DTSTAMP:20260422T085725Z
UID:n7u0nQ
DTSTART;VALUE=DATE:20210620
DTEND;VALUE=DATE:20210621
CLASS:PUBLIC
CREATED:20210528T161303
DESCRIPTION: Join Rapha North America on Sunday\, June 20 for our Longest D
 ay Ride. Marking the start of summer\, the longest day is a moment to cham
 pion the all-day ride. This year\, we’re challenging riders to plan a un
 ique adventure\; not necessarily the most challenging\, but one that makes
  good use of the extra daylight.  \n
LAST-MODIFIED:20231212T102856
LOCATION:Rapha North America
ORGANIZER:mailto:brandon.camarda@rapha.cc
SUMMARY:Longest Day Ride 2021
URL;VALUE=URI:https://ti.to/rapha_n_america/longest-day-ride
URL;VALUE=URI:https://ti.to/rapha_n_america/longest-day-ride
END:VEVENT
END:VCALENDAR
