BEGIN:VCALENDAR
VERSION:2.0
PRODID:icalendar-ruby
CALSCALE:GREGORIAN
BEGIN:VEVENT
DTSTAMP:20260425T215317Z
UID:dFctiA
DTSTART;VALUE=DATE:20170909
DTEND;VALUE=DATE:20170910
CLASS:PUBLIC
CREATED:20170816T115232
DESCRIPTION: Explore Manchester's lesser-known city streets\, following Bro
 mpton's Unseen City map.  \n\n From 11am a limited number of Bromptons wil
 l be available to hire for self-guided rides. Book a slot below and collec
 t from the Rapha Clubhouse. \n\n At 6pm Harry Hall Cycles will lead a guid
 ed ride around all the points of interest on the Unseen City map\, which a
 nyone is welcome to join on any bike. The ride will start at the Rapha Clu
 bhouse and finish there for drinks. \n
LAST-MODIFIED:20221018T150807
LOCATION:Rapha Manchester
ORGANIZER:mailto:jess.morgan@rapha.cc
SUMMARY:Unseen City Ride with Brompton
URL;VALUE=URI:https://ti.to/rapha-uk/rr-unseen-city-brompton
URL;VALUE=URI:https://ti.to/rapha-uk/rr-unseen-city-brompton
END:VEVENT
END:VCALENDAR
