BEGIN:VCALENDAR
VERSION:2.0
PRODID:icalendar-ruby
CALSCALE:GREGORIAN
BEGIN:VEVENT
DTSTAMP:20260425T225359Z
UID:iBK9VQ
DTSTART;VALUE=DATE:20170908
DTEND;VALUE=DATE:20170909
CLASS:PUBLIC
CREATED:20170815T165216
DESCRIPTION: Get ready for the weekend. We're throwing a party for the star
 t of Rapha Rides Manchester with an evening of local food\, drink and musi
 c. \n\n Expect beer provided by local brewery Blackjack\, Italian-inspired
  food by Lupo and the chance to race your friends on the Zwift Sprint Chal
 lenge. \n
LAST-MODIFIED:20221018T150807
LOCATION:Rapha Manchester
ORGANIZER:mailto:jess.morgan@rapha.cc
SUMMARY:Opening Party
URL;VALUE=URI:https://ti.to/rapha-uk/rr-opening-party
URL;VALUE=URI:https://ti.to/rapha-uk/rr-opening-party
END:VEVENT
END:VCALENDAR
