BEGIN:VCALENDAR
VERSION:2.0
PRODID:icalendar-ruby
CALSCALE:GREGORIAN
BEGIN:VEVENT
DTSTAMP:20260425T222006Z
UID:e275tg
DTSTART;VALUE=DATE:20170909
DTEND;VALUE=DATE:20170910
CLASS:PUBLIC
CREATED:20170815T165750
DESCRIPTION: Escape the city with Team Glow for a no-drop 55km spin out int
 o some of Greater Manchester's stunning countryside. Expect a few gentle c
 limbs and beautiful views. The ride will be at a sensible pace and with a 
 no-drop policy\, so ideal for building confidence. Team Glow ride leaders 
 will be on hand to offer advice (Team Glow are a women's cycling network a
 nd Manchester-based club). \n\n After the ride finishes at the Rapha Clubh
 ouse\, Lululemon will lead a short yoga session to teach you how to stretc
 h out the muscles post-ride to avoid stiffness. The Yoga session is not co
 mpulsory. \n
LAST-MODIFIED:20221018T150807
LOCATION:Rapha Manchester
ORGANIZER:mailto:jess.morgan@rapha.cc
SUMMARY:No Drop Ride & Yoga
URL;VALUE=URI:https://ti.to/rapha-uk/rr-no-drop-yoga-ride
URL;VALUE=URI:https://ti.to/rapha-uk/rr-no-drop-yoga-ride
END:VEVENT
END:VCALENDAR
