BEGIN:VCALENDAR
VERSION:2.0
PRODID:icalendar-ruby
CALSCALE:GREGORIAN
BEGIN:VEVENT
DTSTAMP:20260425T215511Z
UID:F5iwUA
DTSTART;VALUE=DATE:20170910
DTEND;VALUE=DATE:20170911
CLASS:PUBLIC
CREATED:20170816T113345
DESCRIPTION: Former pro and star of our Rapha Rides film\, Alan Mellor lead
 s a 70km ride starting from Littleborough Station. A social pace but expec
 t challenging climbs and lengthy anecdotes. \n\n Catch the 9.40am train fr
 om Manchester Victoria to arrive at Littleborough Station at 10.08am\, the
  ride will roll out at 10.30am. The ride will take in some Yorkshire climb
 s then head south through the top of the Peak District to finish at the Ra
 pha Clubhouse for a complimentary recovery beer. \n
LAST-MODIFIED:20221018T150807
LOCATION:Rapha Manchester
ORGANIZER:mailto:jess.morgan@rapha.cc
SUMMARY:Yorkshire Hills with Alan Mellor
URL;VALUE=URI:https://ti.to/rapha-uk/rr-hills-with-alan
URL;VALUE=URI:https://ti.to/rapha-uk/rr-hills-with-alan
END:VEVENT
END:VCALENDAR
