BEGIN:VCALENDAR
VERSION:2.0
PRODID:icalendar-ruby
CALSCALE:GREGORIAN
BEGIN:VEVENT
DTSTAMP:20260425T221756Z
UID:9dJeDQ
DTSTART;VALUE=DATE:20170910
DTEND;VALUE=DATE:20170911
CLASS:PUBLIC
CREATED:20170815T170132
DESCRIPTION: New to riding with others? This clinic will teach the common e
 tiquette and tips for safe group riding\, followed by a short ride to prac
 tice what you've learned. \n
LAST-MODIFIED:20221018T150807
LOCATION:Rapha Manchester
ORGANIZER:mailto:jess.morgan@rapha.cc
SUMMARY:Group Riding Introduction
URL;VALUE=URI:https://ti.to/rapha-uk/rr-group-riding-skills
URL;VALUE=URI:https://ti.to/rapha-uk/rr-group-riding-skills
END:VEVENT
END:VCALENDAR
