BEGIN:VCALENDAR
VERSION:2.0
PRODID:icalendar-ruby
CALSCALE:GREGORIAN
BEGIN:VEVENT
DTSTAMP:20260425T215640Z
UID:DYnhfA
DTSTART;VALUE=DATE:20170910
DTEND;VALUE=DATE:20170911
CLASS:PUBLIC
CREATED:20170815T170456
DESCRIPTION: A casual ride perfect for families and beginners\, Team Glow w
 ill lead this social ride down quiet roads and scenic canal towpaths. \n
LAST-MODIFIED:20221018T150807
LOCATION:Rapha Manchester
ORGANIZER:mailto:jess.morgan@rapha.cc
SUMMARY:No Drop Canal Ride
URL;VALUE=URI:https://ti.to/rapha-uk/rr-canal-ride
URL;VALUE=URI:https://ti.to/rapha-uk/rr-canal-ride
END:VEVENT
END:VCALENDAR
