BEGIN:VCALENDAR
VERSION:2.0
PRODID:icalendar-ruby
CALSCALE:GREGORIAN
BEGIN:VEVENT
DTSTAMP:20260425T215802Z
UID:addfCA
DTSTART;VALUE=DATE:20170909
DTEND;VALUE=DATE:20170910
CLASS:PUBLIC
CREATED:20170815T165418
DESCRIPTION: Challenge yourself with our self-sufficient two-day ride throu
 gh the Peaks with an overnight stay at a campsite. There will be ride lead
 ers guiding the way or you can follow the route solo. On Sunday morning ri
 ders will set off early to arrive back at the Clubhouse for complimentary 
 brunch. \n\n Day 1: Choose the 124km or 184km route.  \n\n Day 2: 104km ro
 ute back to the Clubhouse. \n\n Total distance: 230km or 280km.  \n\n Camp
 site spaces are limited to 30. Dinner will be provided but you must carry 
 your own tent or bivvy bag and all other overnight essentials - being self
 -sufficient is part of the fun.  Previous experience of riding these dista
 nces is essential. \n
LAST-MODIFIED:20221018T150807
LOCATION:Rapha Manchester
ORGANIZER:mailto:jess.morgan@rapha.cc
SUMMARY:Brevet Ride
URL;VALUE=URI:https://ti.to/rapha-uk/rr-brevet-ride
URL;VALUE=URI:https://ti.to/rapha-uk/rr-brevet-ride
END:VEVENT
END:VCALENDAR
