BEGIN:VCALENDAR
VERSION:2.0
PRODID:icalendar-ruby
CALSCALE:GREGORIAN
BEGIN:VEVENT
DTSTAMP:20260421T062503Z
UID:FZSl8Q
DTSTART;VALUE=DATE:20180823
DTEND;VALUE=DATE:20180824
CLASS:PUBLIC
CREATED:20180806T062242
DESCRIPTION: Rupert Guinness set out on the trip of a lifetime: to race acr
 oss Australia in the inaugural Indian Pacific Wheel Race. This would be no
  ordinary bike race. Unlike the Tour de France\, which Guinness made his n
 ame reporting on for decades\, competitors would ride completely unassiste
 d from Fremantle in Western Australia to the Opera House in Sydney on the 
 other side of the country – a gruelling distance of over 5\,000 kilometr
 es that would not only test riders’ physical endurance but their psychol
 ogical resilience as well. Dubbed ‘The Hunger Games on Wheels’\, there
  would be no help\, just riders and their bikes crossing one of the most b
 eautiful – and most inhospitable – places on earth. Rupert’s mission
  was to test his own grit\, physical and emotional\, as he followed the tr
 ail of the pioneering men and women whose historic rides over the last two
  centuries unveiled a largely unknown interior. But when a terrible traged
 y stopped competitors in their tracks\, Rupert was forced to make one of t
 he toughest decisions he had ever faced – and ultimately\, what he disco
 vered was the extraordinary power of the human spirit. \n
LAST-MODIFIED:20231212T102856
LOCATION:Rapha Melbourne 6.00pm
ORGANIZER:mailto:melbourne@rapha.cc
SUMMARY:Overlander Launch with Rupert Guinness
URL;VALUE=URI:https://ti.to/rapha-mobile-clubhouse-australia/melbourneoverl
 ander
URL;VALUE=URI:https://ti.to/rapha-mobile-clubhouse-australia/melbourneoverl
 ander
END:VEVENT
END:VCALENDAR
