BEGIN:VCALENDAR
VERSION:2.0
PRODID:icalendar-ruby
CALSCALE:GREGORIAN
BEGIN:VEVENT
DTSTAMP:20260424T030849Z
UID:rGrNeA
DTSTART;VALUE=DATE:20181021
DTEND;VALUE=DATE:20181022
CLASS:PUBLIC
CREATED:20180824T142036
LAST-MODIFIED:20220609T142253
LOCATION:Rapha Soho
ORGANIZER:mailto:jess.morgan@rapha.cc
SUMMARY:Unlock The City
URL;VALUE=URI:https://ti.to/rapha-london/unlock-the-city
URL;VALUE=URI:https://ti.to/rapha-london/unlock-the-city
END:VEVENT
END:VCALENDAR
