BEGIN:VCALENDAR
VERSION:2.0
PRODID:icalendar-ruby
CALSCALE:GREGORIAN
BEGIN:VEVENT
DTSTAMP:20260421T083727Z
UID:urmnvQ
DTSTART;VALUE=DATE:20211028
DTEND;VALUE=DATE:20211029
CLASS:PUBLIC
CREATED:20210915T141620
DESCRIPTION: The launch of Desire Discrimination Determination – Black Ch
 ampions in Cycling is the first book of its kind\, providing a collation o
 f international and historical stories of the black athlete experience in 
 the world of competitive cycling. \n\n Join us at Rapha Amsterdam on 28th 
 October 20:00 to talk about the book with Dr Marlon Moncrieffe and host Or
 la Chennaoui \n\n Copies of the book will be on sale in store on the night
 . \n\n Please be aware that if Covid restrictions change we may need to li
 mit or reduce the capacity of this event. \n
LAST-MODIFIED:20240322T123839
LOCATION:Rapha Clubhouse Amsterdam
ORGANIZER:mailto:blxevents@rapha.cc
SUMMARY:Black Champions in Cycling Launch
URL;VALUE=URI:https://ti.to/rapha-europe/Black-champions-amsterdam
URL;VALUE=URI:https://ti.to/rapha-europe/Black-champions-amsterdam
END:VEVENT
END:VCALENDAR
