BEGIN:VCALENDAR
VERSION:2.0
PRODID:icalendar-ruby
CALSCALE:GREGORIAN
BEGIN:VEVENT
DTSTAMP:20260420T020341Z
UID:6dtSSQ
DTSTART;VALUE=DATE:20221126
DTEND;VALUE=DATE:20221127
CLASS:PUBLIC
CREATED:20221109T125421
DESCRIPTION: Join us for a Black Friday ride (on a Saturday) followed by dr
 inks and cake at the Clubhouse! \n\n Our Ride Leader\, Oscar\, will lead t
 he ride. \n\n Meet up 09:30\, departure 10:00 from the Rapha Copenhagen Cl
 ubhouse. \n\n Intermediate pace: 27-29kmh \n\n Suitable winter tires are a
  requirement for this ride. Please be self sufficient and bring spare inne
 r tubes\,CO2/mini pump\, energy bar etc. \n
LAST-MODIFIED:20221123T135022
LOCATION:Rapha Copenhagen 
ORGANIZER:mailto:aaron.kiashek@rapha.cc
SUMMARY:Black Friday Ride (on a Saturday)
URL;VALUE=URI:https://ti.to/rapha-copenhagen/black-friday-ride2022
URL;VALUE=URI:https://ti.to/rapha-copenhagen/black-friday-ride2022
END:VEVENT
END:VCALENDAR
