BEGIN:VCALENDAR
VERSION:2.0
PRODID:icalendar-ruby
CALSCALE:GREGORIAN
BEGIN:VEVENT
DTSTAMP:20260420T020039Z
UID:ornSpQ
DTSTART;VALUE=DATE:20221125
DTEND;VALUE=DATE:20221126
CLASS:PUBLIC
CREATED:20221107T183944
DESCRIPTION: Ride with us this Black Friday and help us transform communiti
 es through riding. \n
LAST-MODIFIED:20221120T200422
LOCATION:Rapha Boulder
ORGANIZER:mailto:rene.herrera@rapha.cc
SUMMARY:Rapha Boulder Black Friday Ride
URL;VALUE=URI:https://ti.to/rapha-boulder/rapha-boulder-black-friday-ride
URL;VALUE=URI:https://ti.to/rapha-boulder/rapha-boulder-black-friday-ride
END:VEVENT
END:VCALENDAR
