BEGIN:VCALENDAR
VERSION:2.0
PRODID:icalendar-ruby
CALSCALE:GREGORIAN
BEGIN:VEVENT
DTSTAMP:20260420T084326Z
UID:lObxAg
DTSTART;VALUE=DATE:20231007
DTEND;VALUE=DATE:20231008
CLASS:PUBLIC
CREATED:20230721T043213
DESCRIPTION: Join us at Rails Girls\, a dynamic and inclusive coding event 
 aimed at empowering women and newcomers in the tech world! Whether you're 
 a complete beginner or already have some coding experience\, this inspirin
 g one-day workshop offers a supportive environment to learn Ruby on Rails\
 , a popular web development framework. \n
LAST-MODIFIED:20231005T003549
LOCATION:Stewart St\, Richmond VIC
ORGANIZER:mailto:railsgirlsau@gmail.com
SUMMARY:Rails Girls Melbourne 2023
URL;VALUE=URI:https://ti.to/railsgirlsau/rails-girls-melbourne-2023
URL;VALUE=URI:https://ti.to/railsgirlsau/rails-girls-melbourne-2023
END:VEVENT
BEGIN:VEVENT
DTSTAMP:20260420T084326Z
UID:lObxAg1059356
DTSTART:20231007T100000
DTEND:20231007T160000
CLASS:PUBLIC
CREATED:20230721T053500
DESCRIPTION:Are you an experienced developer eager to make a positive impac
 t in the tech community? Join us as a mentor at the Rails Girls Workshops 
 and inspire the next generation of coders!\n\n**Why Mentor with Us:**\n\n
 🌟 **Empower Women and Non-Binary Individuals:** Rails Girls is committe
 d to fostering diversity and inclusion in the tech world. As a mentor\, yo
 u'll play a crucial role in empowering underrepresented groups in technolo
 gy.\n\n🚀 **Share Your Knowledge:** This is your chance to give back to 
 the community by sharing your expertise in Ruby on Rails and web developme
 nt. Your guidance can help aspiring coders build confidence and skills.\n\
 n👩‍👩‍👧‍👧 **Form Meaningful Connections:** Connect with l
 ike-minded mentors and fellow tech professionals. Collaborate\, exchange i
 deas\, and grow together as a supportive community.\n\n🎯 **Enhance Your
  Leadership Skills:** Mentoring provides a unique opportunity to refine yo
 ur leadership and communication skills\, making you an even stronger asset
  in your career.\n\n💡 **Inspire the Next Tech Innovators:** By mentorin
 g at Rails Girls Workshops\, you contribute to the creation of a more dive
 rse and innovative tech industry\, shaping the future of technology.\n\n**
 What to Expect:**\n\n🛠️ **Guiding Participants:** Assist attendees as
  they work on hands-on coding projects\, offering support and advice throu
 ghout the workshop.\n\n💬 **Sharing Your Experience:** Share your journe
 y as a developer\, highlighting challenges you've faced and lessons learne
 d along the way.\n\n🌐 **Encouraging Collaboration:** Foster a collabora
 tive and inclusive environment where participants feel comfortable and mot
 ivated to learn.\n\n🚀 **Igniting Curiosity:** Inspire curiosity and a g
 rowth mindset among participants\, encouraging them to continue their tech
  journey beyond the workshop.\n\n🤝 **Connect and Network:** Forge meani
 ngful connections with fellow participants\, mentors\, and tech enthusiast
 s. Expand your network and explore opportunities in the tech industry.\n\n
 **Note:** Prior experience in mentoring is valuable\, but not a requiremen
 t. We welcome mentors from diverse tech backgrounds who are enthusiastic a
 bout empowering others.
LAST-MODIFIED:20231002T014626
LOCATION:Culture Amp\, Level 2/29 Stewart St\, Richmond VIC 3121
ORGANIZER:mailto:railsgirlsau@gmail.com
SUMMARY:[Rails Girls Melbourne 2023] Rails Girls Mentor
URL;VALUE=URI:https://ti.to/railsgirlsau/rails-girls-melbourne-2023
X-ALT-DESC;FMTTYPE=text/html:Are you an experienced developer eager to make
  a positive impact in the tech community? Join us as a mentor at the Rails
  Girls Workshops and inspire the next generation of coders!\n\n**Why Mento
 r with Us:**\n\n🌟 **Empower Women and Non-Binary Individuals:** Rails G
 irls is committed to fostering diversity and inclusion in the tech world. 
 As a mentor\, you'll play a crucial role in empowering underrepresented gr
 oups in technology.\n\n🚀 **Share Your Knowledge:** This is your chance 
 to give back to the community by sharing your expertise in Ruby on Rails a
 nd web development. Your guidance can help aspiring coders build confidenc
 e and skills.\n\n👩‍👩‍👧‍👧 **Form Meaningful Connections:*
 * Connect with like-minded mentors and fellow tech professionals. Collabor
 ate\, exchange ideas\, and grow together as a supportive community.\n\n
 🎯 **Enhance Your Leadership Skills:** Mentoring provides a unique oppor
 tunity to refine your leadership and communication skills\, making you an 
 even stronger asset in your career.\n\n💡 **Inspire the Next Tech Innova
 tors:** By mentoring at Rails Girls Workshops\, you contribute to the crea
 tion of a more diverse and innovative tech industry\, shaping the future o
 f technology.\n\n**What to Expect:**\n\n🛠️ **Guiding Participants:** 
 Assist attendees as they work on hands-on coding projects\, offering suppo
 rt and advice throughout the workshop.\n\n💬 **Sharing Your Experience:*
 * Share your journey as a developer\, highlighting challenges you've faced
  and lessons learned along the way.\n\n🌐 **Encouraging Collaboration:**
  Foster a collaborative and inclusive environment where participants feel 
 comfortable and motivated to learn.\n\n🚀 **Igniting Curiosity:** Inspir
 e curiosity and a growth mindset among participants\, encouraging them to 
 continue their tech journey beyond the workshop.\n\n🤝 **Connect and Net
 work:** Forge meaningful connections with fellow participants\, mentors\, 
 and tech enthusiasts. Expand your network and explore opportunities in the
  tech industry.\n\n**Note:** Prior experience in mentoring is valuable\, b
 ut not a requirement. We welcome mentors from diverse tech backgrounds who
  are enthusiastic about empowering others.
URL;VALUE=URI:https://ti.to/railsgirlsau/rails-girls-melbourne-2023
END:VEVENT
BEGIN:VEVENT
DTSTAMP:20260420T084326Z
UID:lObxAg1059355
DTSTART:20231007T100000
DTEND:20231007T160000
CLASS:PUBLIC
CREATED:20230721T052647
DESCRIPTION:<span class="colour" style="color:rgb(55\, 65\, 81)">Calling al
 l previous Rails Girls participants and tech enthusiasts! The Rails Girls 
 Next Workshop is designed to take your coding skills to the next level. Wh
 ether you attended our previous workshop or have some coding experience\, 
 this event is perfect for those ready to deepen their web development know
 ledge.</span>\n\n<span class="colour" style="color:rgb(55\, 65\, 81)"></sp
 an>\n<span class="colour" style="color:rgb(55\, 65\, 81)">**What to Expect
 :**</span>\n\n* 🤖 **Toy Robot Coding Challenge:** Engage in a thrilling
  coding challenge where you'll program a virtual robot to navigate a grid 
 and execute commands. TDD will be your guiding principle throughout the pr
 ocess.\n* 🌟 **Master Test Driven Development:** Discover the power of T
 DD as you write tests first\, then build code to meet those tests. Learn h
 ow this iterative approach can lead to more robust and maintainable code.\
 n* 🚀 **Professional Insights:** Learn from industry professionals and g
 ain valuable insights into building a successful career in tech.\n* 🤝 *
 *Connect and Network:** Forge meaningful connections with fellow participa
 nts\, mentors\, and tech enthusiasts. Expand your network and explore oppo
 rtunities in the tech industry.
LAST-MODIFIED:20231006T185237
LOCATION:Culture Amp\, Level 2/29 Stewart St\, Richmond VIC 3121
ORGANIZER:mailto:railsgirlsau@gmail.com
SUMMARY:[Rails Girls Melbourne 2023] Rails Girls Next Workshop Mentee
URL;VALUE=URI:https://ti.to/railsgirlsau/rails-girls-melbourne-2023
X-ALT-DESC;FMTTYPE=text/html:<span class="colour" style="color:rgb(55\, 65\
 , 81)">Calling all previous Rails Girls participants and tech enthusiasts!
  The Rails Girls Next Workshop is designed to take your coding skills to t
 he next level. Whether you attended our previous workshop or have some cod
 ing experience\, this event is perfect for those ready to deepen their web
  development knowledge.</span>\n\n<span class="colour" style="color:rgb(55
 \, 65\, 81)"></span>\n<span class="colour" style="color:rgb(55\, 65\, 81)"
 >**What to Expect:**</span>\n\n* 🤖 **Toy Robot Coding Challenge:** Enga
 ge in a thrilling coding challenge where you'll program a virtual robot to
  navigate a grid and execute commands. TDD will be your guiding principle 
 throughout the process.\n* 🌟 **Master Test Driven Development:** Discov
 er the power of TDD as you write tests first\, then build code to meet tho
 se tests. Learn how this iterative approach can lead to more robust and ma
 intainable code.\n* 🚀 **Professional Insights:** Learn from industry pr
 ofessionals and gain valuable insights into building a successful career i
 n tech.\n* 🤝 **Connect and Network:** Forge meaningful connections with
  fellow participants\, mentors\, and tech enthusiasts. Expand your network
  and explore opportunities in the tech industry.
URL;VALUE=URI:https://ti.to/railsgirlsau/rails-girls-melbourne-2023
END:VEVENT
BEGIN:VEVENT
DTSTAMP:20260420T084326Z
UID:lObxAg1059354
DTSTART:20231007T100000
DTEND:20231007T160000
CLASS:PUBLIC
CREATED:20230721T052138
DESCRIPTION:<span class="colour" style="color:rgb(55\, 65\, 81)">Join us at
  the Rails Girls Workshop\, a dynamic and inclusive event aimed at inspiri
 ng and empowering women\, non-binary individuals\, and newcomers in the wo
 rld of technology. Whether you're a complete coding newbie or have some ex
 perience\, this workshop is the perfect opportunity to dive into the excit
 ing world of web development.</span>\n\n<span class="colour" style="color:
 rgb(55\, 65\, 81)">**What to Expect:**</span>\n\n* 🌟 **Learn Ruby on Ra
 ils:** Our friendly and passionate mentors will guide you through a hands-
 on experience\, helping you learn the basics of Ruby on Rails\, a powerful
  web development framework.\n* 🚀 **Build Your First Web App**: Get read
 y to create your very own web application from scratch! With the guidance 
 of our mentors\, you'll see your coding skills come to life in no time.\n*
  💻 **A Supportive Environment:** No need to worry about prior experienc
 e – this workshop is designed for beginners. Everyone is welcome\, and w
 e're here to cheer you on every step of the way.\n* 🤝 **Connect and Net
 work:** Forge meaningful connections with fellow participants\, mentors\, 
 and tech enthusiasts. Expand your network and explore opportunities in the
  tech industry.
LAST-MODIFIED:20231006T185237
LOCATION:Culture Amp\, Level 2/29 Stewart St\, Richmond VIC 3121
ORGANIZER:mailto:railsgirlsau@gmail.com
SUMMARY:[Rails Girls Melbourne 2023] Rails Girls Workshop Mentee
URL;VALUE=URI:https://ti.to/railsgirlsau/rails-girls-melbourne-2023
X-ALT-DESC;FMTTYPE=text/html:<span class="colour" style="color:rgb(55\, 65\
 , 81)">Join us at the Rails Girls Workshop\, a dynamic and inclusive event
  aimed at inspiring and empowering women\, non-binary individuals\, and ne
 wcomers in the world of technology. Whether you're a complete coding newbi
 e or have some experience\, this workshop is the perfect opportunity to di
 ve into the exciting world of web development.</span>\n\n<span class="colo
 ur" style="color:rgb(55\, 65\, 81)">**What to Expect:**</span>\n\n* 🌟 *
 *Learn Ruby on Rails:** Our friendly and passionate mentors will guide you
  through a hands-on experience\, helping you learn the basics of Ruby on R
 ails\, a powerful web development framework.\n* 🚀 **Build Your First We
 b App**: Get ready to create your very own web application from scratch! W
 ith the guidance of our mentors\, you'll see your coding skills come to li
 fe in no time.\n* 💻 **A Supportive Environment:** No need to worry abou
 t prior experience – this workshop is designed for beginners. Everyone i
 s welcome\, and we're here to cheer you on every step of the way.\n* 🤝 
 **Connect and Network:** Forge meaningful connections with fellow particip
 ants\, mentors\, and tech enthusiasts. Expand your network and explore opp
 ortunities in the tech industry.
URL;VALUE=URI:https://ti.to/railsgirlsau/rails-girls-melbourne-2023
END:VEVENT
END:VCALENDAR
